BEGIN:VCALENDAR
VERSION:2.0
PRODID:-//wp-events-plugin.com//6.4.6.4//EN
TZID:Europe/Berlin
X-WR-TIMEZONE:Europe/Berlin
BEGIN:VEVENT
UID:24@yoga-med.berlin
DTSTART;TZID=Europe/Berlin:20240415T093000
DTEND;TZID=Europe/Berlin:20240415T110000
DTSTAMP:20231229T100108Z
URL:https://yoga-med.berlin/events/cantienica-grundkurs-rueckbildung-onlin
 e-2-2024-04-15/
SUMMARY:CANTIENICA® GRUNDKURS/RÜCKBILDUNG ONLINE
DESCRIPTION:Wir praktizieren einen fließenden Yogastil\, der mal kraftvoll
  ist und mal in die sehr feine Körperwahrnehmung eintaucht.\nIch flechte 
 Elemente aus anderen Körperarbeitsmethoden\, wie dem Faszienyoga\, der Yo
 gatherapie\, der Spiraldynamik® und insbesondere der CANTIENICA®-Methode
  ein – so\ndass sie ein stimmiges Gesamtbild ergeben.\nVorerfahrungen in
  der CANTIENICA®-Methode sind hilfreich\, werden aber nicht vorausgesetzt
 .
LOCATION:https://yoga-med.berlin/
END:VEVENT
BEGIN:VTIMEZONE
TZID:Europe/Berlin
X-LIC-LOCATION:Europe/Berlin
BEGIN:DAYLIGHT
DTSTART:20240331T030000
TZOFFSETFROM:+0100
TZOFFSETTO:+0200
TZNAME:CEST
END:DAYLIGHT
END:VTIMEZONE
END:VCALENDAR